BEGIN:VCALENDAR
VERSION:2.0
PRODID:-//Tukios.com/
BEGIN:VEVENT
UID:88a49831-c441-4518-9b2b-46053ec2b35c@www.csog.com
DTSTAMP:20260421T215243Z
DTSTART:20260503T190000Z
DTEND:20260503T200000Z
SUMMARY:Memorial Service
DESCRIPTION:
URL:https://www.csog.com/obituaries/deborah-reeder
LOCATION:Lifebridge Christian Church 206 South Hammond Drive  Monroe GA 
	30655
GEO:33.7993835;-83.6999355
END:VEVENT
END:VCALENDAR